BEGIN:VCALENDAR
VERSION:2.0
PRODID:-//Waldenstrom&#039;s Macroglobulinemia Foundation of Canada - ECPv6.15.17//NONSGML v1.0//EN
CALSCALE:GREGORIAN
METHOD:PUBLISH
X-ORIGINAL-URL:https://www.wmfc.ca
X-WR-CALDESC:Events for Waldenstrom&#039;s Macroglobulinemia Foundation of Canada
REFRESH-INTERVAL;VALUE=DURATION:PT1H
X-Robots-Tag:noindex
X-PUBLISHED-TTL:PT1H
BEGIN:VTIMEZONE
TZID:America/Vancouver
BEGIN:DAYLIGHT
TZOFFSETFROM:-0800
TZOFFSETTO:-0700
TZNAME:PDT
DTSTART:20250309T100000
END:DAYLIGHT
BEGIN:STANDARD
TZOFFSETFROM:-0700
TZOFFSETTO:-0800
TZNAME:PST
DTSTART:20251102T090000
END:STANDARD
BEGIN:DAYLIGHT
TZOFFSETFROM:-0800
TZOFFSETTO:-0700
TZNAME:PDT
DTSTART:20260308T100000
END:DAYLIGHT
BEGIN:STANDARD
TZOFFSETFROM:-0700
TZOFFSETTO:-0800
TZNAME:PST
DTSTART:20261101T090000
END:STANDARD
BEGIN:DAYLIGHT
TZOFFSETFROM:-0800
TZOFFSETTO:-0700
TZNAME:PDT
DTSTART:20270314T100000
END:DAYLIGHT
BEGIN:STANDARD
TZOFFSETFROM:-0700
TZOFFSETTO:-0800
TZNAME:PST
DTSTART:20271107T090000
END:STANDARD
END:VTIMEZONE
BEGIN:VTIMEZONE
TZID:America/Toronto
BEGIN:DAYLIGHT
TZOFFSETFROM:-0500
TZOFFSETTO:-0400
TZNAME:EDT
DTSTART:20250309T070000
END:DAYLIGHT
BEGIN:STANDARD
TZOFFSETFROM:-0400
TZOFFSETTO:-0500
TZNAME:EST
DTSTART:20251102T060000
END:STANDARD
BEGIN:DAYLIGHT
TZOFFSETFROM:-0500
TZOFFSETTO:-0400
TZNAME:EDT
DTSTART:20260308T070000
END:DAYLIGHT
BEGIN:STANDARD
TZOFFSETFROM:-0400
TZOFFSETTO:-0500
TZNAME:EST
DTSTART:20261101T060000
END:STANDARD
BEGIN:DAYLIGHT
TZOFFSETFROM:-0500
TZOFFSETTO:-0400
TZNAME:EDT
DTSTART:20270314T070000
END:DAYLIGHT
BEGIN:STANDARD
TZOFFSETFROM:-0400
TZOFFSETTO:-0500
TZNAME:EST
DTSTART:20271107T060000
END:STANDARD
END:VTIMEZONE
BEGIN:VEVENT
DTSTART;TZID=America/Vancouver:20260916T190000
DTEND;TZID=America/Vancouver:20260916T203000
DTSTAMP:20260421T165006
CREATED:20250104T135415Z
LAST-MODIFIED:20260120T161411Z
UID:10000148-1789585200-1789590600@www.wmfc.ca
SUMMARY:BC Wallies - Support Group Meeting 2026
DESCRIPTION:Agenda and Zoom details to be published. \nLooking forward to our meetings\, \nBrenda Rogers \nBC WM Support Group Facilitator
URL:https://www.wmfc.ca/event/bc-wallies-support-group-meeting-2025/2026-09-16/
CATEGORIES:Event,Support Group
ATTACH;FMTTYPE=image/jpeg:https://www.wmfc.ca/wp-content/uploads/2020/06/wmfc.jpg
END:VEVENT
BEGIN:VEVENT
DTSTART;TZID=America/Toronto:20260930T133000
DTEND;TZID=America/Toronto:20260930T153000
DTSTAMP:20260421T165006
CREATED:20260125T231254Z
LAST-MODIFIED:20260125T231254Z
UID:10000155-1790775000-1790782200@www.wmfc.ca
SUMMARY:Eastern Ontario In-Person Meeting
DESCRIPTION:Hello Everyone! \nIt was truly a pleasure to get together with about a dozen of you in December  2025 for our Festive gathering at the Ottawa Cancer Foundation’s beautiful facilities. There was an abundance of food and good cheer\, followed by the sharing and caring portion afterwards\, each with our own unique journey yet also having much in common.  Interestingly\, even though Zoom was available\, nobody joined us on line for this particular event. \nI have scheduled the following dates for in person meetings at the Ottawa Cancer Foundation (MapleSoft) in 2026 from 1:30 to 3:30 pm: \nMarch 25\, June 24\, September 30\, as well as December 14th for a combination festive lunch and meeting as we did last month. We will continue to offer the option to join us via Zoom (hybrid) for these\, unless there is a lack of interest. And of course I will schedule on line meetings in between these dates\, as well as plan a summer get together. \nWishing you all a healthy and happy 2026! \nDianne Soutif \nWMFC \nEastern Ontario
URL:https://www.wmfc.ca/event/eastern-ontario-in-person-meeting-2/
CATEGORIES:Event,Support Group
ATTACH;FMTTYPE=image/webp:https://www.wmfc.ca/wp-content/uploads/2025/01/Waldenstrom-Support-Group-Meeting.webp
END:VEVENT
BEGIN:VEVENT
DTSTART;TZID=America/Vancouver:20261021T190000
DTEND;TZID=America/Vancouver:20261021T203000
DTSTAMP:20260421T165006
CREATED:20250104T135415Z
LAST-MODIFIED:20260120T161411Z
UID:10000149-1792609200-1792614600@www.wmfc.ca
SUMMARY:BC Wallies - Support Group Meeting 2026
DESCRIPTION:Agenda and Zoom details to be published. \nLooking forward to our meetings\, \nBrenda Rogers \nBC WM Support Group Facilitator
URL:https://www.wmfc.ca/event/bc-wallies-support-group-meeting-2025/2026-10-21/
CATEGORIES:Event,Support Group
ATTACH;FMTTYPE=image/jpeg:https://www.wmfc.ca/wp-content/uploads/2020/06/wmfc.jpg
END:VEVENT
BEGIN:VEVENT
DTSTART;TZID=America/Vancouver:20261118T190000
DTEND;TZID=America/Vancouver:20261118T203000
DTSTAMP:20260421T165006
CREATED:20250104T135415Z
LAST-MODIFIED:20260120T161411Z
UID:10000150-1795028400-1795033800@www.wmfc.ca
SUMMARY:BC Wallies - Support Group Meeting 2026
DESCRIPTION:Agenda and Zoom details to be published. \nLooking forward to our meetings\, \nBrenda Rogers \nBC WM Support Group Facilitator
URL:https://www.wmfc.ca/event/bc-wallies-support-group-meeting-2025/2026-11-18/
CATEGORIES:Event,Support Group
ATTACH;FMTTYPE=image/jpeg:https://www.wmfc.ca/wp-content/uploads/2020/06/wmfc.jpg
END:VEVENT
BEGIN:VEVENT
DTSTART;TZID=America/Toronto:20261214T133000
DTEND;TZID=America/Toronto:20261214T153000
DTSTAMP:20260421T165006
CREATED:20260125T231444Z
LAST-MODIFIED:20260125T231444Z
UID:10000157-1797255000-1797262200@www.wmfc.ca
SUMMARY:Eastern Ontario In-Person Meeting
DESCRIPTION:Hello Everyone! \nIt was truly a pleasure to get together with about a dozen of you in December  2025 for our Festive gathering at the Ottawa Cancer Foundation’s beautiful facilities. There was an abundance of food and good cheer\, followed by the sharing and caring portion afterwards\, each with our own unique journey yet also having much in common.  Interestingly\, even though Zoom was available\, nobody joined us on line for this particular event. \nI have scheduled the following dates for in person meetings at the Ottawa Cancer Foundation (MapleSoft) in 2026 from 1:30 to 3:30 pm: \nMarch 25\, June 24\, September 30\, as well as December 14th for a combination festive lunch and meeting as we did last month. We will continue to offer the option to join us via Zoom (hybrid) for these\, unless there is a lack of interest. And of course I will schedule on line meetings in between these dates\, as well as plan a summer get together. \nWishing you all a healthy and happy 2026! \nDianne Soutif \nWMFC \nEastern Ontario
URL:https://www.wmfc.ca/event/eastern-ontario-in-person-meeting-4/
CATEGORIES:Event,Support Group
ATTACH;FMTTYPE=image/webp:https://www.wmfc.ca/wp-content/uploads/2025/01/Gourpe-de-Support-Wally.webp
END:VEVENT
BEGIN:VEVENT
DTSTART;TZID=America/Vancouver:20261216T190000
DTEND;TZID=America/Vancouver:20261216T203000
DTSTAMP:20260421T165006
CREATED:20250104T135415Z
LAST-MODIFIED:20260120T161411Z
UID:10000151-1797447600-1797453000@www.wmfc.ca
SUMMARY:BC Wallies - Support Group Meeting 2026
DESCRIPTION:Agenda and Zoom details to be published. \nLooking forward to our meetings\, \nBrenda Rogers \nBC WM Support Group Facilitator
URL:https://www.wmfc.ca/event/bc-wallies-support-group-meeting-2025/2026-12-16/
CATEGORIES:Event,Support Group
ATTACH;FMTTYPE=image/jpeg:https://www.wmfc.ca/wp-content/uploads/2020/06/wmfc.jpg
END:VEVENT
END:VCALENDAR