BEGIN:VCALENDAR
VERSION:2.0
PRODID:-//Waldenstrom&#039;s Macroglobulinemia Foundation of Canada - ECPv6.15.17//NONSGML v1.0//EN
CALSCALE:GREGORIAN
METHOD:PUBLISH
X-ORIGINAL-URL:https://www.wmfc.ca
X-WR-CALDESC:Events for Waldenstrom&#039;s Macroglobulinemia Foundation of Canada
REFRESH-INTERVAL;VALUE=DURATION:PT1H
X-Robots-Tag:noindex
X-PUBLISHED-TTL:PT1H
BEGIN:VTIMEZONE
TZID:America/Toronto
BEGIN:DAYLIGHT
TZOFFSETFROM:-0500
TZOFFSETTO:-0400
TZNAME:EDT
DTSTART:20250309T070000
END:DAYLIGHT
BEGIN:STANDARD
TZOFFSETFROM:-0400
TZOFFSETTO:-0500
TZNAME:EST
DTSTART:20251102T060000
END:STANDARD
BEGIN:DAYLIGHT
TZOFFSETFROM:-0500
TZOFFSETTO:-0400
TZNAME:EDT
DTSTART:20260308T070000
END:DAYLIGHT
BEGIN:STANDARD
TZOFFSETFROM:-0400
TZOFFSETTO:-0500
TZNAME:EST
DTSTART:20261101T060000
END:STANDARD
BEGIN:DAYLIGHT
TZOFFSETFROM:-0500
TZOFFSETTO:-0400
TZNAME:EDT
DTSTART:20270314T070000
END:DAYLIGHT
BEGIN:STANDARD
TZOFFSETFROM:-0400
TZOFFSETTO:-0500
TZNAME:EST
DTSTART:20271107T060000
END:STANDARD
END:VTIMEZONE
BEGIN:VEVENT
DTSTART;TZID=America/Toronto:20260331T190000
DTEND;TZID=America/Toronto:20260331T210000
DTSTAMP:20260421T114010
CREATED:20260129T212412Z
LAST-MODIFIED:20260129T212459Z
UID:10000158-1774983600-1774990800@www.wmfc.ca
SUMMARY:Toronto/Southern Ontario Support Group Zoom Meeting
DESCRIPTION:The Toronto/Southern Ontario Support Group is having its next Zoom Meeting on Tuesday\, March 31st from 7:00 -9:00 pm.  The meeting is open to all patients and caregivers who are affected by Waldenstrom’s.  Join us as we share experiences\, concerns and questions about our WM journey.\n\nThe zoom link will be sent out to members a few days before the meeting.\n\nPlease reach out to us at anytime.\n\nGloria McNeill Gloria.mcneill@wmfc.ca\nRaffaela Mercurio Raffaela.mercurio@ wmfc.ca
URL:https://www.wmfc.ca/event/toronto-southern-ontario-support-group-zoom-meeting/
CATEGORIES:Event,Support Group
ATTACH;FMTTYPE=image/png:https://www.wmfc.ca/wp-content/uploads/2025/10/ChatGPT-Image-Oct-8-2025-05_57_46-PM.png
END:VEVENT
END:VCALENDAR